BEGIN:VCALENDAR
VERSION:2.0
PRODID:-//Gledališče Koper//NONSGML v1.0//EN
BEGIN:VEVENT
UID:noreply@gledalice-koper.si
DTSTAMP:20260422T174047Z
DTSTART:20260507T200000Z
DTEND:20260507T220000Z
SUMMARY:mala dvorana
END:VEVENT
END:VCALENDAR
