BEGIN:VCALENDAR
VERSION:2.0
PRODID:-//Gledališče Koper//NONSGML v1.0//EN
BEGIN:VEVENT
UID:noreply@gledalice-koper.si
DTSTAMP:20260422T173548Z
DTSTART:20260530T103000Z
DTEND:20260530T123000Z
SUMMARY:velika dvorana
END:VEVENT
END:VCALENDAR
