BEGIN:VCALENDAR
VERSION:2.0
PRODID:-//Gledališče Koper//NONSGML v1.0//EN
BEGIN:VEVENT
UID:noreply@gledalice-koper.si
DTSTAMP:20260422T174118Z
DTSTART:20260508T193000Z
DTEND:20260508T213000Z
SUMMARY:mala dvorana
END:VEVENT
END:VCALENDAR
