BEGIN:VCALENDAR
VERSION:2.0
PRODID:-//Gledališče Koper//NONSGML v1.0//EN
BEGIN:VEVENT
UID:noreply@gledalice-koper.si
DTSTAMP:20260423T103034Z
DTSTART:20260521T190000Z
DTEND:20260521T210000Z
SUMMARY:velika dvorana
END:VEVENT
END:VCALENDAR
